BEGIN:VCALENDAR
VERSION:2.0
CALSCALE:GREGORIAN
PRODID:-//Diputació de Barcelona//DibaCMS//EN
BEGIN:VEVENT
UID:3447
DTSTAMP:20260423T123636
DTSTART:20220217T090000
DTEND:20220217T140500
SUMMARY:Mercat Setmanal
LOCATION:
METHOD:PUBLISH
X-WR-CALNAME:bonesvalls@olesadebonesvalls.cat
X-WR-TIMEZONE:Europe/Madrid
DESCRIPTION:
URI:https://www.olesadebonesvalls.cat/actualitat/agenda/3447-mercat-setmanal.html
CLASS:PUBLIC
END:VEVENT
END:VCALENDAR
