BEGIN:VCALENDAR
VERSION:2.0
CALSCALE:GREGORIAN
PRODID:-//Diputació de Barcelona//DibaCMS//EN
BEGIN:VEVENT
UID:4224
DTSTAMP:20260420T112256
DTSTART:20240527T164500
DTEND:20240527T200000
SUMMARY:Dilluns 27 de maig fem una reunió informativa sobre els grups de criança d'Olesa de Bonesvalls
LOCATION:
METHOD:PUBLISH
X-WR-CALNAME:bonesvalls@olesadebonesvalls.cat
X-WR-TIMEZONE:Europe/Madrid
DESCRIPTION:
URI:https://www.olesadebonesvalls.cat/actualitat/agenda/dilluns-27-de-maig-fem-una-reunio-informativa-sobre-els-grups-de-crianca-dolesa-de-bonesvalls.html
CLASS:PUBLIC
END:VEVENT
END:VCALENDAR
