BEGIN:VCALENDAR
VERSION:2.0
CALSCALE:GREGORIAN
PRODID:-//Diputació de Barcelona//DibaCMS//EN
BEGIN:VEVENT
UID:4999
DTSTAMP:20260420T112556
DTSTART:20260306T163000
DTEND:20260306T183000
SUMMARY:Teatre Fòrum: Les àvies del segle XXI
LOCATION:
METHOD:PUBLISH
X-WR-CALNAME:bonesvalls@olesadebonesvalls.cat
X-WR-TIMEZONE:Europe/Madrid
DESCRIPTION:
URI:https://www.olesadebonesvalls.cat/actualitat/agenda/teatre-forum-les-avies-del-segle-xxi.html
CLASS:PUBLIC
END:VEVENT
END:VCALENDAR
