BEGIN:VCALENDAR
VERSION:2.0
CALSCALE:GREGORIAN
PRODID:-//Diputació de Barcelona//DibaCMS//EN
BEGIN:VEVENT
UID:5082
DTSTAMP:20260421T131915
DTSTART:20260415T100000
DTEND:20260415T120000
SUMMARY:Formació digital gratuïta al Casal El Roure.
LOCATION:Casal El Roure 
METHOD:PUBLISH
X-WR-CALNAME:bonesvalls@olesadebonesvalls.cat
X-WR-TIMEZONE:Europe/Madrid
DESCRIPTION:
URI:https://www.olesadebonesvalls.cat/actualitat/agenda/formacio-digital-gratuita-al-casal-el-roure.html
CLASS:PUBLIC
END:VEVENT
END:VCALENDAR
