BEGIN:VCALENDAR
VERSION:2.0
CALSCALE:GREGORIAN
PRODID:-//Diputació de Barcelona//DibaCMS//EN
BEGIN:VEVENT
UID:5108
DTSTAMP:20260424T204400
DTSTART:20260504T170000
DTEND:20260504T180000
SUMMARY:Reunió informativa Casal d'Estiu 2026 (famílilies alumnes I3 fins  1rBatxillerat)
LOCATION:
METHOD:PUBLISH
X-WR-CALNAME:bonesvalls@olesadebonesvalls.cat
X-WR-TIMEZONE:Europe/Madrid
DESCRIPTION:
URI:https://www.olesadebonesvalls.cat/actualitat/agenda/reunio-informativa-casal-destiu-2026-famililies-alumnes-i3-fins-1rbatxillerat.html
CLASS:PUBLIC
END:VEVENT
END:VCALENDAR
