BEGIN:VCALENDAR
VERSION:2.0
CALSCALE:GREGORIAN
PRODID:-//Diputació de Barcelona//DibaCMS//EN
BEGIN:VEVENT
UID:5111
DTSTAMP:20260421T131231
DTSTART:20260424T090000
DTEND:20260424T110000
SUMMARY:Taller de marxa nòrdica
LOCATION:Punt de trobada, entrada del Centre Cívic 
METHOD:PUBLISH
X-WR-CALNAME:bonesvalls@olesadebonesvalls.cat
X-WR-TIMEZONE:Europe/Madrid
DESCRIPTION:
URI:https://www.olesadebonesvalls.cat/actualitat/agenda/taller-de-marxa-nordica.html
CLASS:PUBLIC
END:VEVENT
END:VCALENDAR
