BEGIN:VCALENDAR
VERSION:2.0
CALSCALE:GREGORIAN
PRODID:-//Diputació de Barcelona//DibaCMS//EN
BEGIN:VEVENT
UID:5117
DTSTAMP:20260424T175736
DTSTART:20260428T090000
DTEND:20260428T102000
SUMMARY:Visita de la banca mòbil, dimarts 28 d'abril de 9 a 10.10h. a la Pl. de la Creu.
LOCATION:
METHOD:PUBLISH
X-WR-CALNAME:bonesvalls@olesadebonesvalls.cat
X-WR-TIMEZONE:Europe/Madrid
DESCRIPTION:
URI:https://www.olesadebonesvalls.cat/actualitat/agenda/5117-visita-de-la-banca-mobil-dimarts-28-dabril-de-9-a-1010h-a-la-pl-de-la-creu.html
CLASS:PUBLIC
END:VEVENT
END:VCALENDAR
