BEGIN:VCALENDAR
VERSION:2.0
CALSCALE:GREGORIAN
PRODID:-//Diputació de Barcelona//DibaCMS//EN
BEGIN:VEVENT
UID:5118
DTSTAMP:20260424T175844
DTSTART:20260506T180000
DTEND:20260506T200000
SUMMARY:Taller "Com acompanyar el pas a l'adolescència"
LOCATION:Lokal Jove 
METHOD:PUBLISH
X-WR-CALNAME:bonesvalls@olesadebonesvalls.cat
X-WR-TIMEZONE:Europe/Madrid
DESCRIPTION:
URI:https://www.olesadebonesvalls.cat/actualitat/agenda/taller-com-acompanyar-el-pas-a-ladolescencia.html
CLASS:PUBLIC
END:VEVENT
END:VCALENDAR
